BEGIN:VCALENDAR
VERSION:2.0
PRODID:-//Tukios.com/
BEGIN:VEVENT
UID:c51dbf7d-9461-4ba2-8f56-b18f72638e04@www.shurtleffservices.com
DTSTAMP:20260423T011944Z
DTSTART:20260428T140000Z
DTEND:20260428T150000Z
SUMMARY:Visitation
DESCRIPTION:A Prayer Service will be conducted at 11:00 AM on Tuesday, 
	April 28 at the Shurtleff Funeral Home, 103 Lincoln Avenue, Groton. A 
	calling hour will precede the service from 10:00 - 11:00 at the funeral 
	home, with interment to follow at St. Anthony's Cemetery.
URL:https://www.shurtleffservices.com/obituaries/donald-harrington
LOCATION: 103 Lincoln Ave  Groton NY 13073
GEO:42.5867073;-76.3653112
END:VEVENT
END:VCALENDAR